BEGIN:VCALENDAR
VERSION:2.0
PRODID:-//AEDCUM - ECPv6.0.6.2//NONSGML v1.0//EN
CALSCALE:GREGORIAN
METHOD:PUBLISH
X-WR-CALNAME:AEDCUM
X-ORIGINAL-URL:https://www.aedcum.ca
X-WR-CALDESC:évènements pour AEDCUM
REFRESH-INTERVAL;VALUE=DURATION:PT1H
X-Robots-Tag:noindex
X-PUBLISHED-TTL:PT1H
BEGIN:VTIMEZONE
TZID:America/Halifax
BEGIN:DAYLIGHT
TZOFFSETFROM:-0400
TZOFFSETTO:-0300
TZNAME:ADT
DTSTART:20240310T060000
END:DAYLIGHT
BEGIN:STANDARD
TZOFFSETFROM:-0300
TZOFFSETTO:-0400
TZNAME:AST
DTSTART:20241103T050000
END:STANDARD
END:VTIMEZONE
BEGIN:VEVENT
DTSTART;TZID=America/Halifax:20240111T090000
DTEND;TZID=America/Halifax:20240111T210000
DTSTAMP:20260425T221815
CREATED:20231119T001829Z
LAST-MODIFIED:20231119T001829Z
UID:2522-1704963600-1705006800@www.aedcum.ca
SUMMARY:Journée Carrière 2024
DESCRIPTION:
URL:https://www.aedcum.ca/event/journee-carriere-2024/
LOCATION:Campus MIL\, 1375 avenue Thérèse Lavoie-Roux\, Montréal\, Québec\, H2V 0B3\, Canada
CATEGORIES:Académique,Conférences
ORGANIZER;CN="AEDCUM":MAILTO:cve@aedcum.ca
END:VEVENT
END:VCALENDAR