BEGIN:VCALENDAR
VERSION:2.0
PRODID:-//AEDCUM - ECPv6.0.6.2//NONSGML v1.0//EN
CALSCALE:GREGORIAN
METHOD:PUBLISH
X-ORIGINAL-URL:https://www.aedcum.ca
X-WR-CALDESC:évènements pour AEDCUM
REFRESH-INTERVAL;VALUE=DURATION:PT1H
X-Robots-Tag:noindex
X-PUBLISHED-TTL:PT1H
BEGIN:VTIMEZONE
TZID:America/Halifax
BEGIN:DAYLIGHT
TZOFFSETFROM:-0400
TZOFFSETTO:-0300
TZNAME:ADT
DTSTART:20240310T060000
END:DAYLIGHT
BEGIN:STANDARD
TZOFFSETFROM:-0300
TZOFFSETTO:-0400
TZNAME:AST
DTSTART:20241103T050000
END:STANDARD
END:VTIMEZONE
BEGIN:VEVENT
DTSTART;TZID=America/Halifax:20240320T180000
DTEND;TZID=America/Halifax:20240320T220000
DTSTAMP:20260423T125944
CREATED:20240302T174914Z
LAST-MODIFIED:20240305T134656Z
UID:2698-1710957600-1710972000@www.aedcum.ca
SUMMARY:Perspectives #2 Eric Gagnon
DESCRIPTION:Perspectives #2  \nDiscussions inspirantes & conviviales autour des perspectives d’emploi en chimie  \nInspiring & friendly discussions about chemistry related job opportunities \n  \nCréation et commercialisation\nde nouveaux matériaux de construction\nCreation and marketing of new construction materials\n  \nHoraire  \n20/03/2024  \nCampus MIL\, A-2553  \n18h Café & collations/Coffee & snacks  \n18h30-22h table ronde & buffet/Panel discussion & buffet \n  \nContact  \njournee-carriere@aedcum.ca   \n  \nInvité  \nEric Gagnon  \n \nEric Gagnon est originaire de Baie-Comeau\, et a grandi près de Rouyn-Noranda et à Laval. Il obtint son B.Sc. en chimie de l’Université de Montréal en 2005\, au sein de la première cohorte du programme révisé du baccalauréat. Ses études ont été ponctuées de stages au sein des groupes de Prof. James D. Wuest (chimie supramoléculaire) et de Prof. Juan C. (Tito) Scaiano (Université d’Ottawa\, spécialiste en photochimie). Il intégra ensuite le groupe de Pr. James D. Wuest afin de poursuivre sa formation en chimie supramoléculaire\, obtenant son doctorat en 2010 après avoir étudié les motifs de reconnaissances de l’hexaphénylbenzène et ses dérivés.  \n   \nSuivant un court stage post-doctoral avec Prof. Mario Leclerc à l’Université Laval\, il décrocha un premier emploi de chercheur R&D au sein de Saint-Jean Photochimie (maintenant DIC chimitronique)\, où il participa à la synthèse et à mise à l’échelle industrielle de produits dédiés à la microélectronique tels que des colorants cyanine et des dérivés de thiophène et de fluorène. Par la suite\, il travailla chez Oleotek Inc. (maintenant Kemitek Inc.)\, un centre collégial de transfert de technologie spécialisé en oléochimie\, en chimie verte\, en mise à l’échelle de procédés\, et en formulation. Il se familiarisera alors avec de nombreux types de matériaux\, tels que les savons\, les lubrifiants\, les élastomères et diverses résines thermodurcissables. Depuis 2017\, il occupe le poste de Chargé de projets – Recherche et développement chez Soprema Canada. Il y supervise une équipe de quatre techniciens et chimistes\, visant à développer de nouveaux matériaux afin d’assurer l’étanchéité de bâtiments et de divers ouvrages d’arts. Ces matériaux ont notamment servi à protéger les structures de béton des ponts Champlain et Pierre-Laporte\, du REM ainsi que divers stationnements souterrains et entrepôts.  \n  \nEric Gagnon profitera de cette occasion pour expliquer le rôle central que peut occuper un chimiste qualifié au sein d’un département de R&D d’une entreprise comptant 9000 collaborateurs. Une emphase sera mise sur les habilités nécessaires pour amener une idée du laboratoire jusqu’à une échelle commerciale\, utilisée sur des chantiers de grande envergure.  \n  \nThèse : https://doi.org/1866/3786  \nSoprema : https://www.soprema.ca/fr/  \n  \nEric Gagnon is originally from Baie-Comeau\, and grew up near Rouyn-Noranda and in Laval. He obtained his B.Sc. in chemistry from the University of Montreal in 2005\, in the first cohort of the revised baccalaureate program. His studies were punctuated by internships within the groups of Prof. James D. Wuest (supramolecular chemistry) and Prof. Juan C. (Tito) Scaiano (University of Ottawa\, specialist in photochemistry). He then joined the group of Prof. James D. Wuest to continue his training in supramolecular chemistry\, obtaining his Ph.D. in 2010 after studying the recognition patterns of hexaphenylbenzene and its derivatives.  \n  \nFollowing a short postdoctoral internship with Professor Mario Leclerc at Laval University\, he landed his first job as an R&D researcher at Saint-Jean Photochemin (now DIC chimitronique)\, where he participated in the synthesis and industrial scale-up of products dedicated to microelectronics such as cyanine dyes as well as thiophene and fluorene derivatives. Subsequently\, he worked at Kemitek Inc. (formerly Kemitek Inc.)\, a college technology transfer center specializing in oleochemistry\, green chemistry\, process scaling\, and formulation. There\, he then became familiar with many materials\, such as soaps\, lubricants\, elastomers and various thermosetting resins. Since 2017\, he holds the position of Project Manager – Research and Development at Soprema Canada. There\, he supervises a team of four technicians and chemists\, aiming to develop new materials to ensure the waterproofing of buildings and various structures. These materials were notably used to protect the concrete structures of the Champlain and Pierre-Laporte bridges\, the REM as well as various underground parking lots and warehouses.  \n  \nEric Gagnon will take this opportunity to explain the central role that a qualified chemist can play within an R&D department of a company with 9\,000 employees. Emphasis will be placed on the skills necessary to bring an idea from the laboratory to a commercial scale\, used on large-scale projects.  \n  \nThesis : https://doi.org/1866/3786  \nSoprema : https://www.soprema.ca/fr/ 
URL:https://www.aedcum.ca/event/perspectives-2/
LOCATION:Campus MIL\, 1375 avenue Thérèse Lavoie-Roux\, Montréal\, Québec\, H2V 0B3\, Canada
CATEGORIES:5à7,Conférences
ORGANIZER;CN="AEDCUM":MAILTO:cve@aedcum.ca
END:VEVENT
END:VCALENDAR